BEGIN:VCALENDAR
VERSION:2.0
PRODID:-//The Midwestern - ECPv6.6.4.2//NONSGML v1.0//EN
CALSCALE:GREGORIAN
METHOD:PUBLISH
X-ORIGINAL-URL:https://midwesternstl.com
X-WR-CALDESC:Events for The Midwestern
REFRESH-INTERVAL;VALUE=DURATION:PT1H
X-Robots-Tag:noindex
X-PUBLISHED-TTL:PT1H
BEGIN:VTIMEZONE
TZID:UTC
BEGIN:STANDARD
TZOFFSETFROM:+0000
TZOFFSETTO:+0000
TZNAME:UTC
DTSTART:20240101T000000
END:STANDARD
END:VTIMEZONE
BEGIN:VEVENT
DTSTART;TZID=UTC:20240803T210000
DTEND;TZID=UTC:20240803T210000
DTSTAMP:20260424T082115
CREATED:20240816T174720Z
LAST-MODIFIED:20240816T174720Z
UID:732-1722718800-1722718800@midwesternstl.com
SUMMARY:Krista Lynn Meadow -  Backyard Party
DESCRIPTION:
URL:https://midwesternstl.com/event/krista-lynn-meadow-backyard-party/
LOCATION:The Backyard at the Midwestern\, 900 Spruce St.\, St Louis\, MO\, 63102\, United States
END:VEVENT
BEGIN:VEVENT
DTSTART;TZID=UTC:20240810T200000
DTEND;TZID=UTC:20240810T200000
DTSTAMP:20260424T082115
CREATED:20240816T174750Z
LAST-MODIFIED:20240816T174750Z
UID:733-1723320000-1723320000@midwesternstl.com
SUMMARY:Shut up Mark - Backyard Party
DESCRIPTION:
URL:https://midwesternstl.com/event/shut-up-mark-backyard-party/
LOCATION:The Backyard at the Midwestern\, 900 Spruce St.\, St Louis\, MO\, 63102\, United States
END:VEVENT
BEGIN:VEVENT
DTSTART;TZID=UTC:20240817T210000
DTEND;TZID=UTC:20240817T210000
DTSTAMP:20260424T082115
CREATED:20240816T173424Z
LAST-MODIFIED:20240816T173424Z
UID:726-1723928400-1723928400@midwesternstl.com
SUMMARY:Legends Undercover - Backyard Party
DESCRIPTION:
URL:https://midwesternstl.com/event/legends-undercover-backyard-party/
LOCATION:The Backyard at the Midwestern\, 900 Spruce St.\, St Louis\, MO\, 63102\, United States
END:VEVENT
BEGIN:VEVENT
DTSTART;TZID=UTC:20240817T210000
DTEND;TZID=UTC:20240817T210000
DTSTAMP:20260424T082115
CREATED:20240816T174558Z
LAST-MODIFIED:20240816T174605Z
UID:731-1723928400-1723928400@midwesternstl.com
SUMMARY:UFC 305 Watch Party
DESCRIPTION:
URL:https://midwesternstl.com/event/ufc-305/
LOCATION:The Midwestern\, 900 Spruce St.\, St. Louis\, MO\, 63121\, United States
END:VEVENT
BEGIN:VEVENT
DTSTART;TZID=UTC:20240823T200000
DTEND;TZID=UTC:20240823T220000
DTSTAMP:20260424T082115
CREATED:20240816T173115Z
LAST-MODIFIED:20240816T173231Z
UID:725-1724443200-1724450400@midwesternstl.com
SUMMARY:Friday Night Trivia
DESCRIPTION:
URL:https://midwesternstl.com/event/friday-night-trivia/
LOCATION:The Midwestern\, 900 Spruce St.\, St. Louis\, MO\, 63121\, United States
END:VEVENT
BEGIN:VEVENT
DTSTART;TZID=UTC:20240824T090000
DTEND;TZID=UTC:20240824T090000
DTSTAMP:20260424T082115
CREATED:20240816T173513Z
LAST-MODIFIED:20240816T173610Z
UID:727-1724490000-1724490000@midwesternstl.com
SUMMARY:Barre Brunch
DESCRIPTION:
URL:https://midwesternstl.com/event/ufc-305-watch-party/
LOCATION:The Backyard at the Midwestern\, 900 Spruce St.\, St Louis\, MO\, 63102\, United States
END:VEVENT
BEGIN:VEVENT
DTSTART;TZID=UTC:20240824T210000
DTEND;TZID=UTC:20240824T210000
DTSTAMP:20260424T082115
CREATED:20240816T173756Z
LAST-MODIFIED:20240816T173756Z
UID:729-1724533200-1724533200@midwesternstl.com
SUMMARY:Broseph Tucker Band - Backyard Party
DESCRIPTION:
URL:https://midwesternstl.com/event/broseph-tucker-band-backyard-party/
LOCATION:The Backyard at the Midwestern\, 900 Spruce St.\, St Louis\, MO\, 63102\, United States
END:VEVENT
BEGIN:VEVENT
DTSTART;TZID=UTC:20240828T190000
DTEND;TZID=UTC:20240828T190000
DTSTAMP:20260424T082115
CREATED:20240816T173711Z
LAST-MODIFIED:20240816T173711Z
UID:728-1724871600-1724871600@midwesternstl.com
SUMMARY:EMO NIGHT LIVE - Danger Party
DESCRIPTION:
URL:https://midwesternstl.com/event/emo-night-live-danger-party/
LOCATION:The Backyard at the Midwestern\, 900 Spruce St.\, St Louis\, MO\, 63102\, United States
END:VEVENT
BEGIN:VEVENT
DTSTART;TZID=UTC:20240829T190000
DTEND;TZID=UTC:20240829T190000
DTSTAMP:20260424T082115
CREATED:20240816T173009Z
LAST-MODIFIED:20240816T173022Z
UID:723-1724958000-1724958000@midwesternstl.com
SUMMARY:MIZZOU Home opener Watch party!
DESCRIPTION:College Football is so back\nWe’re hosting a watch party for the Mizzou Football Opener so grab your friends and grab a reservation\, you already know we’re about to get after it! Head over to midwesternstl.com to reserve your table.\nWe know how to watch party! Blasting game audio & pouring bombs for each MIZZOU touchdown\, so dont miss any of the action for this entire HISTORIC season \nSeason long specials include $15 Domestic Buckets\, $4 1st Phorm Bombs\, and UNA VIDA Margarita Specials!\n\nps. for the home opener\, we have $20 bottomless cup available! domestic drafts\, and rails
URL:https://midwesternstl.com/event/mizzou-home-opener-watch-party/
LOCATION:MO
END:VEVENT
BEGIN:VEVENT
DTSTART;TZID=UTC:20240831T210000
DTEND;TZID=UTC:20240831T210000
DTSTAMP:20260424T082115
CREATED:20240816T173852Z
LAST-MODIFIED:20240816T173852Z
UID:730-1725138000-1725138000@midwesternstl.com
SUMMARY:Wildfire - Backyard Party
DESCRIPTION:
URL:https://midwesternstl.com/event/wildfire-backyard-party/
LOCATION:The Backyard at the Midwestern\, 900 Spruce St.\, St Louis\, MO\, 63102\, United States
END:VEVENT
END:VCALENDAR