BEGIN:VCALENDAR
VERSION:2.0
PRODID:-//The Midwestern - ECPv6.6.4.2//NONSGML v1.0//EN
CALSCALE:GREGORIAN
METHOD:PUBLISH
X-ORIGINAL-URL:https://midwesternstl.com
X-WR-CALDESC:Events for The Midwestern
REFRESH-INTERVAL;VALUE=DURATION:PT1H
X-Robots-Tag:noindex
X-PUBLISHED-TTL:PT1H
BEGIN:VTIMEZONE
TZID:UTC
BEGIN:STANDARD
TZOFFSETFROM:+0000
TZOFFSETTO:+0000
TZNAME:UTC
DTSTART:20190101T000000
END:STANDARD
END:VTIMEZONE
BEGIN:VEVENT
DTSTART;VALUE=DATE:20190601
DTEND;VALUE=DATE:20190602
DTSTAMP:20260421T212903
CREATED:20190517T182845Z
LAST-MODIFIED:20190517T182845Z
UID:363-1559347200-1559433599@midwesternstl.com
SUMMARY:Apex Shrine with DJ Ashley Hohman LIVE at the Midwestern
DESCRIPTION:As part of the “Rock & Soul Revival” at the Midwestern’s NEW outdoor venue\, The Station\, we’ll be shredding originals and breaking out classic rock covers in the heart of a Cards/Cubs RIVALRY weekend\, baby. Let’s all behave\, now ya hear? \nWe’ll be alternating sets with DJ Ashley Hohman to break up the night!
URL:https://midwesternstl.com/event/apex-shrine-with-dj-ashley-hohman-live-at-the-midwestern/
LOCATION:The Midwestern\, 900 Spruce St.\, St. Louis\, MO\, 63121\, United States
END:VEVENT
BEGIN:VEVENT
DTSTART;TZID=UTC:20190601T120000
DTEND;TZID=UTC:20190601T150000
DTSTAMP:20260421T212903
CREATED:20190520T170216Z
LAST-MODIFIED:20190520T170636Z
UID:377-1559390400-1559401200@midwesternstl.com
SUMMARY:Grooveliner - Live at the Midwestern
DESCRIPTION:
URL:https://midwesternstl.com/event/grooveliner-live-at-the-midwestern/
LOCATION:The Midwestern\, 900 Spruce St.\, St. Louis\, MO\, 63121\, United States
END:VEVENT
BEGIN:VEVENT
DTSTART;TZID=UTC:20190607T210000
DTEND;TZID=UTC:20190607T210000
DTSTAMP:20260421T212903
CREATED:20190517T183021Z
LAST-MODIFIED:20190517T183021Z
UID:365-1559941200-1559941200@midwesternstl.com
SUMMARY:Rock N' Soul Revival with The Free Years & DJ Uptown
DESCRIPTION:The Free Years & DJ Uptown Live at 900 Spruce\, The Midwestern \nDoors at 8pm \nShow at 9pm \na revival of St. Louis’ Rock n Soul music scene with a mixture of DJ’s and Live original bands every weekend. Come experience the revival of Live Music in Downtown St. Louis.
URL:https://midwesternstl.com/event/rock-n-soul-revival-with-the-free-years-dj-uptown/
LOCATION:The Midwestern\, 900 Spruce St.\, St. Louis\, MO\, 63121\, United States
END:VEVENT
BEGIN:VEVENT
DTSTART;TZID=UTC:20190608T220000
DTEND;TZID=UTC:20190608T220000
DTSTAMP:20260421T212903
CREATED:20190520T172435Z
LAST-MODIFIED:20190520T175258Z
UID:379-1560031200-1560031200@midwesternstl.com
SUMMARY:Bedlam Brothers Live at the Midwestern
DESCRIPTION:  \nThe Bedlam Brothers – Live a the Midwestern \nThe bedlam brothers mix genres and artists to fit the moment. Build on the solid classic rock/blues foundation with loose-limbed boogies. A 2 to 5 man band.
URL:https://midwesternstl.com/event/bedlam-bros-live-at-the-midwestern/
LOCATION:The Midwestern\, 900 Spruce St.\, St. Louis\, MO\, 63121\, United States
END:VEVENT
END:VCALENDAR