BEGIN:VCALENDAR
VERSION:2.0
PRODID:-//The Midwestern - ECPv6.6.4.2//NONSGML v1.0//EN
CALSCALE:GREGORIAN
METHOD:PUBLISH
X-WR-CALNAME:The Midwestern
X-ORIGINAL-URL:https://midwesternstl.com
X-WR-CALDESC:Events for The Midwestern
REFRESH-INTERVAL;VALUE=DURATION:PT1H
X-Robots-Tag:noindex
X-PUBLISHED-TTL:PT1H
BEGIN:VTIMEZONE
TZID:UTC
BEGIN:STANDARD
TZOFFSETFROM:+0000
TZOFFSETTO:+0000
TZNAME:UTC
DTSTART:20190101T000000
END:STANDARD
END:VTIMEZONE
BEGIN:VEVENT
DTSTART;TZID=UTC:20190531T210000
DTEND;TZID=UTC:20190531T210000
DTSTAMP:20260422T005134
CREATED:20190517T182319Z
LAST-MODIFIED:20190517T182319Z
UID:362-1559336400-1559336400@midwesternstl.com
SUMMARY:Rock N' Soul Revival with Mathias and the Pirates & DJ Who
DESCRIPTION:Mathias and the Pirates & DJ Who Live at 900 Spruce\, The Midwestern \nDoors at 8pm \nShow at 9pm \na revival of St. Louis’ Rock n Soul music scene with a mixture of DJ’s and Live original bands every weekend. Come experience the revival of Live Music in Downtown St. Louis.
URL:https://midwesternstl.com/event/rock-n-soul-revival-with-mathias-and-the-pirates-dj-who/
LOCATION:The Midwestern\, 900 Spruce St.\, St. Louis\, MO\, 63121\, United States
END:VEVENT
BEGIN:VEVENT
DTSTART;TZID=UTC:20190531T220000
DTEND;TZID=UTC:20190531T220000
DTSTAMP:20260422T005134
CREATED:20190520T165720Z
LAST-MODIFIED:20190520T165720Z
UID:375-1559340000-1559340000@midwesternstl.com
SUMMARY:Clusterpluck Live at the Midwestern
DESCRIPTION:
URL:https://midwesternstl.com/event/clusterpluck-live-at-the-midwestern/
LOCATION:MO
END:VEVENT
END:VCALENDAR